BEGIN:VCALENDAR
VERSION:2.0
PRODID:-//LKR Unlimited Opportunities LLC - ECPv6.15.20//NONSGML v1.0//EN
CALSCALE:GREGORIAN
METHOD:PUBLISH
X-ORIGINAL-URL:https://lindakayerandall.com
X-WR-CALDESC:Events for LKR Unlimited Opportunities LLC
REFRESH-INTERVAL;VALUE=DURATION:PT1H
X-Robots-Tag:noindex
X-PUBLISHED-TTL:PT1H
BEGIN:VTIMEZONE
TZID:America/New_York
BEGIN:DAYLIGHT
TZOFFSETFROM:-0500
TZOFFSETTO:-0400
TZNAME:EDT
DTSTART:20250309T070000
END:DAYLIGHT
BEGIN:STANDARD
TZOFFSETFROM:-0400
TZOFFSETTO:-0500
TZNAME:EST
DTSTART:20251102T060000
END:STANDARD
BEGIN:DAYLIGHT
TZOFFSETFROM:-0500
TZOFFSETTO:-0400
TZNAME:EDT
DTSTART:20260308T070000
END:DAYLIGHT
BEGIN:STANDARD
TZOFFSETFROM:-0400
TZOFFSETTO:-0500
TZNAME:EST
DTSTART:20261101T060000
END:STANDARD
BEGIN:DAYLIGHT
TZOFFSETFROM:-0500
TZOFFSETTO:-0400
TZNAME:EDT
DTSTART:20270314T070000
END:DAYLIGHT
BEGIN:STANDARD
TZOFFSETFROM:-0400
TZOFFSETTO:-0500
TZNAME:EST
DTSTART:20271107T060000
END:STANDARD
END:VTIMEZONE
BEGIN:VEVENT
DTSTART;TZID=America/New_York:20260303T180000
DTEND;TZID=America/New_York:20260303T183000
DTSTAMP:20260423T163846
CREATED:20260227T144756Z
LAST-MODIFIED:20260227T144756Z
UID:10000268-1772560800-1772562600@lindakayerandall.com
SUMMARY:Linda's Interview on the Sharvette Mitchell Show 3 Mar 2026
DESCRIPTION:PLEASE JOIN THE CONVERSATION AND GET HELP MASTERING YOUR DETOURS! \nUse the following links to watch live: \nhttps://www.facebook.com/MitchellProductions \n \nAlso available on: \nhttps://thesharvettemitchellradioshow.buzzsprout.com/ \nhttps://music.amazon.com/podcasts/7a6dbb45-abf8-4ce7-8202-116b3dbd3f31/the-sharvette-mitchell-radio-show
URL:https://lindakayerandall.com/event/lindas-interview-on-the-sharvette-mitchell-show-3-mar-2026/
LOCATION:https://lindakayerandall.com/event/lindas-interview-on-the-sharvette-mitchell-show-3-mar-2026/
END:VEVENT
BEGIN:VEVENT
DTSTART;TZID=America/New_York:20260321T110000
DTEND;TZID=America/New_York:20260321T150000
DTSTAMP:20260423T163846
CREATED:20260119T191814Z
LAST-MODIFIED:20260119T191814Z
UID:10000006-1774090800-1774105200@lindakayerandall.com
SUMMARY:Book Signing
DESCRIPTION:Please join me at the Barnes & Noble in Williamsburg to have a chat and get your signed copy of the The Lumberjack Song\, Grace Through Hardship and the companion journal Grace Through Hardship.   I am looking forward to meeting you and discussing your journey. \n 
URL:https://lindakayerandall.com/event/book-signing/
LOCATION:Barnes & Noble Williamsburg VA\, 5101 Main Street\, Williamsburg\, VA\, 23188\, United States
END:VEVENT
END:VCALENDAR