BEGIN:VCALENDAR
VERSION:2.0
PRODID:-//LKR Unlimited Opportunities LLC - ECPv6.15.20//NONSGML v1.0//EN
CALSCALE:GREGORIAN
METHOD:PUBLISH
X-ORIGINAL-URL:https://lindakayerandall.com
X-WR-CALDESC:Events for LKR Unlimited Opportunities LLC
REFRESH-INTERVAL;VALUE=DURATION:PT1H
X-Robots-Tag:noindex
X-PUBLISHED-TTL:PT1H
BEGIN:VTIMEZONE
TZID:America/New_York
BEGIN:DAYLIGHT
TZOFFSETFROM:-0500
TZOFFSETTO:-0400
TZNAME:EDT
DTSTART:20250309T070000
END:DAYLIGHT
BEGIN:STANDARD
TZOFFSETFROM:-0400
TZOFFSETTO:-0500
TZNAME:EST
DTSTART:20251102T060000
END:STANDARD
BEGIN:DAYLIGHT
TZOFFSETFROM:-0500
TZOFFSETTO:-0400
TZNAME:EDT
DTSTART:20260308T070000
END:DAYLIGHT
BEGIN:STANDARD
TZOFFSETFROM:-0400
TZOFFSETTO:-0500
TZNAME:EST
DTSTART:20261101T060000
END:STANDARD
BEGIN:DAYLIGHT
TZOFFSETFROM:-0500
TZOFFSETTO:-0400
TZNAME:EDT
DTSTART:20270314T070000
END:DAYLIGHT
BEGIN:STANDARD
TZOFFSETFROM:-0400
TZOFFSETTO:-0500
TZNAME:EST
DTSTART:20271107T060000
END:STANDARD
END:VTIMEZONE
BEGIN:VEVENT
DTSTART;TZID=America/New_York:20260415T100000
DTEND;TZID=America/New_York:20260415T110000
DTSTAMP:20260423T202203
CREATED:20260406T151824Z
LAST-MODIFIED:20260406T151824Z
UID:10000270-1776247200-1776250800@lindakayerandall.com
SUMMARY:Resilient Beyond Measure
DESCRIPTION:Come join us as we speak our truth on what has empowered us through various life journeys –  be part of the movement to resilience!  The event is happening 13 April to 20 April.  This event is for everyone who needs some encouragement.  My Facebook Live slot is listed.
URL:https://lindakayerandall.com/event/resilient-beyond-measure/
LOCATION:VA
ATTACH;FMTTYPE=image/jpeg:https://lindakayerandall.com/wp-content/uploads/2026/04/Resilience-Speaking-Flyer-Jackie-Walker-Host.jpeg
END:VEVENT
BEGIN:VEVENT
DTSTART;TZID=America/New_York:20260601T190000
DTEND;TZID=America/New_York:20260601T203000
DTSTAMP:20260423T202203
CREATED:20260406T152846Z
LAST-MODIFIED:20260406T152846Z
UID:10000271-1780340400-1780345800@lindakayerandall.com
SUMMARY:Virtual Book Release for "Our Fathers\, Love\, Life & Legacy"  Co-Author endeavor with BK Royston
DESCRIPTION:Please join us live as we do a virtual release of anthology.  This book is arriving just in time for Father’s Day and is a tribute to what it means to be a Father.   This will be an exciting event as we have all put our hearts into this collection of work.   Pre-order availability will be coming soon –    Links will be available soon for the broadcast and sales!  Add to your calendar today –  —
URL:https://lindakayerandall.com/event/virtual-book-release-for-our-fathers-love-life-legacy-co-author-endeavor-with-bk-royston/
LOCATION:VA
ATTACH;FMTTYPE=image/png:https://lindakayerandall.com/wp-content/uploads/2026/03/Our-Fathers-Pre-order-flyer.png
END:VEVENT
BEGIN:VEVENT
DTSTART;TZID=America/New_York:20261025T110000
DTEND;TZID=America/New_York:20261025T140000
DTSTAMP:20260423T202203
CREATED:20260324T203043Z
LAST-MODIFIED:20260324T203043Z
UID:10000269-1792926000-1792936800@lindakayerandall.com
SUMMARY:Book Signing B&N Williamsburg VA
DESCRIPTION:For those that could not join me on 21 March I will be returning to Williamsburg on 25 October from 11 to 2pm to visit with you and sign books. \nI really enjoyed the event on 21 March and met a lot of wonderful people –
URL:https://lindakayerandall.com/event/book-signing-bn-williamsburg-va/
LOCATION:Barnes & Noble Williamsburg VA\, 5101 Main Street\, Williamsburg\, VA\, 23188\, United States
END:VEVENT
END:VCALENDAR